BEGIN:VCALENDAR
VERSION:2.0
PRODID:-//BARCELONA FUTBOL TAULA - ECPv6.15.11//NONSGML v1.0//EN
CALSCALE:GREGORIAN
METHOD:PUBLISH
X-WR-CALNAME:BARCELONA FUTBOL TAULA
X-ORIGINAL-URL:https://barcelona.futboldetaula.cat
X-WR-CALDESC:Esdeveniments per BARCELONA FUTBOL TAULA
REFRESH-INTERVAL;VALUE=DURATION:PT1H
X-Robots-Tag:noindex
X-PUBLISHED-TTL:PT1H
BEGIN:VTIMEZONE
TZID:Europe/Helsinki
BEGIN:DAYLIGHT
TZOFFSETFROM:+0200
TZOFFSETTO:+0300
TZNAME:EEST
DTSTART:20250330T010000
END:DAYLIGHT
BEGIN:STANDARD
TZOFFSETFROM:+0300
TZOFFSETTO:+0200
TZNAME:EET
DTSTART:20251026T010000
END:STANDARD
BEGIN:DAYLIGHT
TZOFFSETFROM:+0200
TZOFFSETTO:+0300
TZNAME:EEST
DTSTART:20260329T010000
END:DAYLIGHT
BEGIN:STANDARD
TZOFFSETFROM:+0300
TZOFFSETTO:+0200
TZNAME:EET
DTSTART:20261025T010000
END:STANDARD
BEGIN:DAYLIGHT
TZOFFSETFROM:+0200
TZOFFSETTO:+0300
TZNAME:EEST
DTSTART:20270328T010000
END:DAYLIGHT
BEGIN:STANDARD
TZOFFSETFROM:+0300
TZOFFSETTO:+0200
TZNAME:EET
DTSTART:20271031T010000
END:STANDARD
END:VTIMEZONE
BEGIN:VEVENT
DTSTART;TZID=Europe/Helsinki:20260124T080000
DTEND;TZID=Europe/Helsinki:20260125T170000
DTSTAMP:20260422T050142
CREATED:20250721T140828Z
LAST-MODIFIED:20250721T141311Z
UID:241-1769241600-1769360400@barcelona.futboldetaula.cat
SUMMARY:Major de Paris
DESCRIPTION:Per afegir-te com a disponible pel torneig per equips si us plau omple el formulari d’inscripció a sota. En cas de que finalment no puguis assistir al torneig si us plau contacta pel Whatsapp del club perquè t’esborrem de la llista. \n \nCarregant… \n\nLlistat d’inscrits \nPer saber el llistat d’inscrits demana l’enllaç al grup de Whatsapp del club.
URL:https://barcelona.futboldetaula.cat/event/major-de-paris/
LOCATION:Paris\, Palais Omnisports Pierre Duprès\, Maisons Lafitte\, 78600\, France
END:VEVENT
END:VCALENDAR